BEGIN:VCALENDAR
VERSION:2.0
PRODID:-//Carers Together Wiltshire - ECPv6.15.20//NONSGML v1.0//EN
CALSCALE:GREGORIAN
METHOD:PUBLISH
X-WR-CALNAME:Carers Together Wiltshire
X-ORIGINAL-URL:https://carerstogetherwiltshire.org.uk
X-WR-CALDESC:Events for Carers Together Wiltshire
REFRESH-INTERVAL;VALUE=DURATION:PT1H
X-Robots-Tag:noindex
X-PUBLISHED-TTL:PT1H
BEGIN:VTIMEZONE
TZID:Europe/London
BEGIN:DAYLIGHT
TZOFFSETFROM:+0000
TZOFFSETTO:+0100
TZNAME:BST
DTSTART:20250330T010000
END:DAYLIGHT
BEGIN:STANDARD
TZOFFSETFROM:+0100
TZOFFSETTO:+0000
TZNAME:GMT
DTSTART:20251026T010000
END:STANDARD
BEGIN:DAYLIGHT
TZOFFSETFROM:+0000
TZOFFSETTO:+0100
TZNAME:BST
DTSTART:20260329T010000
END:DAYLIGHT
BEGIN:STANDARD
TZOFFSETFROM:+0100
TZOFFSETTO:+0000
TZNAME:GMT
DTSTART:20261025T010000
END:STANDARD
BEGIN:DAYLIGHT
TZOFFSETFROM:+0000
TZOFFSETTO:+0100
TZNAME:BST
DTSTART:20270328T010000
END:DAYLIGHT
BEGIN:STANDARD
TZOFFSETFROM:+0100
TZOFFSETTO:+0000
TZNAME:GMT
DTSTART:20271031T010000
END:STANDARD
END:VTIMEZONE
BEGIN:VEVENT
DTSTART;TZID=Europe/London:20260423T103000
DTEND;TZID=Europe/London:20260423T120000
DTSTAMP:20260423T020809
CREATED:20260311T134205Z
LAST-MODIFIED:20260311T134205Z
UID:2624-1776940200-1776945600@carerstogetherwiltshire.org.uk
SUMMARY:Bradford on Avon Carer Café
DESCRIPTION:A chance for unpaid Carers to chat\, relax and catch-up – its all about connecting\, having fun and looking after your mental well-being! This Café is held every month (4th Thursday of the month).
URL:https://carerstogetherwiltshire.org.uk/event/bradford-on-avon-carer-cafe/
LOCATION:Timbrells Yard\, 49 St Margaret's Street\, Bradford on Avon\, BA15 1DE\, United Kingdom
CATEGORIES:Carer Event
ATTACH;FMTTYPE=image/jpeg:https://carerstogetherwiltshire.org.uk/wp-content/uploads/2024/06/download-10.jpg
END:VEVENT
BEGIN:VEVENT
DTSTART;TZID=Europe/London:20260423T103000
DTEND;TZID=Europe/London:20260423T120000
DTSTAMP:20260423T020809
CREATED:20260311T153420Z
LAST-MODIFIED:20260311T153420Z
UID:2714-1776940200-1776945600@carerstogetherwiltshire.org.uk
SUMMARY:Rudloe Carer Café
DESCRIPTION:A chance for unpaid Carers to chat\, relax and catch-up – its all about connecting\, having fun and looking after your mental well-being! This Café is held every month (4th Thursday of the month).
URL:https://carerstogetherwiltshire.org.uk/event/rudloe-carer-cafe/
LOCATION:Dandelion Coffee House\, Portal Avenue\, Corsham\, Wiltshire\, SN13 0LQ\, United Kingdom
CATEGORIES:Carer Event
ATTACH;FMTTYPE=image/jpeg:https://carerstogetherwiltshire.org.uk/wp-content/uploads/2024/06/download-10.jpg
END:VEVENT
BEGIN:VEVENT
DTSTART;TZID=Europe/London:20260423T103000
DTEND;TZID=Europe/London:20260423T120000
DTSTAMP:20260423T020809
CREATED:20260311T155459Z
LAST-MODIFIED:20260311T155459Z
UID:2752-1776940200-1776945600@carerstogetherwiltshire.org.uk
SUMMARY:Malmesbury Carer Café
DESCRIPTION:A chance for unpaid Carers to chat\, relax and catch-up – its all about connecting\, having fun and looking after your mental well-being! This Café is held every month (4th Thursday of the month).
URL:https://carerstogetherwiltshire.org.uk/event/malmesbury-carer-cafe/
LOCATION:Malmesbury Abbey\, Gloucester St\, Malmesbury\, Wiltshire\, SN16 0AA\, United Kingdom
CATEGORIES:Carer Event
ATTACH;FMTTYPE=image/jpeg:https://carerstogetherwiltshire.org.uk/wp-content/uploads/2024/06/download-10.jpg
END:VEVENT
BEGIN:VEVENT
DTSTART;TZID=Europe/London:20260423T103000
DTEND;TZID=Europe/London:20260423T120000
DTSTAMP:20260423T020809
CREATED:20260311T160025Z
LAST-MODIFIED:20260311T160025Z
UID:2774-1776940200-1776945600@carerstogetherwiltshire.org.uk
SUMMARY:Marlborough Carer Café
DESCRIPTION:A chance for unpaid Carers to chat\, relax and catch-up – its all about connecting\, having fun and looking after your mental well-being! This Café is held every month (4th Thursday of the month).
URL:https://carerstogetherwiltshire.org.uk/event/marlborough-carer-cafe/
LOCATION:St. Peter’s Church Coffee Shop\, High St\, Marlborough\, Wiltshire\, SN8 1HQ\, United Kingdom
CATEGORIES:Carer Event
ATTACH;FMTTYPE=image/jpeg:https://carerstogetherwiltshire.org.uk/wp-content/uploads/2024/06/download-10.jpg
END:VEVENT
BEGIN:VEVENT
DTSTART;TZID=Europe/London:20260423T190000
DTEND;TZID=Europe/London:20260423T200000
DTSTAMP:20260423T020809
CREATED:20260224T100716Z
LAST-MODIFIED:20260224T100716Z
UID:2505-1776970800-1776974400@carerstogetherwiltshire.org.uk
SUMMARY:Parent Carer Virtual Group
DESCRIPTION:A monthly online chat for Parent Carers. Please email jo.hiller-culley@carerstogetherwiltshire.org.uk for a link to join.
URL:https://carerstogetherwiltshire.org.uk/event/parent-carer-virtual-group/
LOCATION:Online
CATEGORIES:Parent Carer Event
ATTACH;FMTTYPE=image/jpeg:https://carerstogetherwiltshire.org.uk/wp-content/uploads/2024/06/download.jpg
END:VEVENT
END:VCALENDAR