BEGIN:VCALENDAR
VERSION:2.0
PRODID:-//Carers Together Wiltshire - ECPv6.15.20//NONSGML v1.0//EN
CALSCALE:GREGORIAN
METHOD:PUBLISH
X-WR-CALNAME:Carers Together Wiltshire
X-ORIGINAL-URL:https://carerstogetherwiltshire.org.uk
X-WR-CALDESC:Events for Carers Together Wiltshire
REFRESH-INTERVAL;VALUE=DURATION:PT1H
X-Robots-Tag:noindex
X-PUBLISHED-TTL:PT1H
BEGIN:VTIMEZONE
TZID:Europe/London
BEGIN:DAYLIGHT
TZOFFSETFROM:+0000
TZOFFSETTO:+0100
TZNAME:BST
DTSTART:20250330T010000
END:DAYLIGHT
BEGIN:STANDARD
TZOFFSETFROM:+0100
TZOFFSETTO:+0000
TZNAME:GMT
DTSTART:20251026T010000
END:STANDARD
BEGIN:DAYLIGHT
TZOFFSETFROM:+0000
TZOFFSETTO:+0100
TZNAME:BST
DTSTART:20260329T010000
END:DAYLIGHT
BEGIN:STANDARD
TZOFFSETFROM:+0100
TZOFFSETTO:+0000
TZNAME:GMT
DTSTART:20261025T010000
END:STANDARD
BEGIN:DAYLIGHT
TZOFFSETFROM:+0000
TZOFFSETTO:+0100
TZNAME:BST
DTSTART:20270328T010000
END:DAYLIGHT
BEGIN:STANDARD
TZOFFSETFROM:+0100
TZOFFSETTO:+0000
TZNAME:GMT
DTSTART:20271031T010000
END:STANDARD
END:VTIMEZONE
BEGIN:VEVENT
DTSTART;TZID=Europe/London:20260422T100000
DTEND;TZID=Europe/London:20260422T120000
DTSTAMP:20260422T115548
CREATED:20260311T112733Z
LAST-MODIFIED:20260319T094809Z
UID:2563-1776852000-1776859200@carerstogetherwiltshire.org.uk
SUMMARY:Salisbury Mental Health Carer Café (Formerly run by Carer Support Wiltshire)
DESCRIPTION:Our Salisbury Mental Health Carer Café is for unpaid Carers who are looking after someone with a mental health condition\, run in partnership with Avon and Wiltshire Mental Health Partnership (AWP)\, with a member of their staff present at each session. \nPop in and meet us – you’re welcome to stay for some or all of the session. It’s a chance to chat\, relax\, connect and look after your own wellbeing\, all in a friendly\, informal setting. This group meets monthly on the 4th Wednesday of the month.
URL:https://carerstogetherwiltshire.org.uk/event/salisbury-mental-health-carer-cafe/
LOCATION:The White Hart Hotel\, St John's Street\, Salisbury\, Wiltshire\, SP1 2SD\, United Kingdom
CATEGORIES:Carer Event
ATTACH;FMTTYPE=image/jpeg:https://carerstogetherwiltshire.org.uk/wp-content/uploads/2026/03/Mental-Health-Cafe-photo.jpg
END:VEVENT
END:VCALENDAR